BEGIN:VCALENDAR
VERSION:2.0
PRODID:-//PRINZ - Public Relations Institute of New Zealand - ECPv6.3.4//NONSGML v1.0//EN
CALSCALE:GREGORIAN
METHOD:PUBLISH
X-WR-CALNAME:PRINZ - Public Relations Institute of New Zealand
X-ORIGINAL-URL:https://prinz.org.nz
X-WR-CALDESC:Events for PRINZ - Public Relations Institute of New Zealand
REFRESH-INTERVAL;VALUE=DURATION:PT1H
X-Robots-Tag:noindex
X-PUBLISHED-TTL:PT1H
BEGIN:VTIMEZONE
TZID:Pacific/Auckland
BEGIN:STANDARD
TZOFFSETFROM:+1300
TZOFFSETTO:+1200
TZNAME:NZST
DTSTART:20220402T140000
END:STANDARD
BEGIN:DAYLIGHT
TZOFFSETFROM:+1200
TZOFFSETTO:+1300
TZNAME:NZDT
DTSTART:20220924T140000
END:DAYLIGHT
END:VTIMEZONE
BEGIN:VEVENT
DTSTART;TZID=Pacific/Auckland:20220503T100000
DTEND;TZID=Pacific/Auckland:20220503T120000
DTSTAMP:20260421T231645
CREATED:20220126T041104Z
LAST-MODIFIED:20220502T000549Z
UID:20795-1651572000-1651579200@prinz.org.nz
SUMMARY:How to be an Influencer within your Organisation - An Online Workshop with Tracey Bridges
DESCRIPTION:Wednesday 3rd June @ 3:00pm						\n					\n				\n				\n			\n			\n		\n				\n				\n					\n		\n					\n		\n				\n				\n							OverviewAll current members are invited to attend the 2026 PRINZ Annual General Meeting.  In a year where there has been much change and uncertainty in our industry\, join us to see how your industry body fared during these challenging times. This meeting will be conducted online with links sent to registered members the day prior. Election of new board members to replace those completing their current tenure will be included in the agenda. Register below!
URL:https://prinz.org.nz/event/how-to-be-an-influencer-within-your-organisation-a-workshop-with-tracey-bridges/
ATTACH;FMTTYPE=image/jpeg:https://prinz.org.nz/wp-content/uploads/2022/01/influence-dictionary-closeup-picture-id476483922.jpg
END:VEVENT
BEGIN:VEVENT
DTSTART;TZID=Pacific/Auckland:20220512T120000
DTEND;TZID=Pacific/Auckland:20220512T130000
DTSTAMP:20260421T231645
CREATED:20220412T000052Z
LAST-MODIFIED:20220505T025932Z
UID:22886-1652356800-1652360400@prinz.org.nz
SUMMARY:Riding the Great Resignation Wave
DESCRIPTION:Wednesday 3rd June @ 3:00pm						\n					\n				\n				\n			\n			\n		\n				\n				\n					\n		\n					\n		\n				\n				\n							OverviewAll current members are invited to attend the 2026 PRINZ Annual General Meeting.  In a year where there has been much change and uncertainty in our industry\, join us to see how your industry body fared during these challenging times. This meeting will be conducted online with links sent to registered members the day prior. Election of new board members to replace those completing their current tenure will be included in the agenda. Register below!
URL:https://prinz.org.nz/event/riding-the-great-resignation-wave/
ATTACH;FMTTYPE=image/webp:https://prinz.org.nz/wp-content/uploads/2022/04/iStock-1350030499.webp
END:VEVENT
BEGIN:VEVENT
DTSTART;TZID=Pacific/Auckland:20220516T093000
DTEND;TZID=Pacific/Auckland:20220519T120000
DTSTAMP:20260421T231645
CREATED:20220407T061009Z
LAST-MODIFIED:20220509T053559Z
UID:22742-1652693400-1652961600@prinz.org.nz
SUMMARY:Public Relations Strategy and Evaluation
DESCRIPTION:Wednesday 3rd June @ 3:00pm						\n					\n				\n				\n			\n			\n		\n				\n				\n					\n		\n					\n		\n				\n				\n							OverviewAll current members are invited to attend the 2026 PRINZ Annual General Meeting.  In a year where there has been much change and uncertainty in our industry\, join us to see how your industry body fared during these challenging times. This meeting will be conducted online with links sent to registered members the day prior. Election of new board members to replace those completing their current tenure will be included in the agenda. Register below!
URL:https://prinz.org.nz/event/public-relations-strategy-and-evaluation/
ATTACH;FMTTYPE=image/jpeg:https://prinz.org.nz/wp-content/uploads/2022/04/20200904-Blog-Hero-Product-Strategy.jpg
END:VEVENT
BEGIN:VEVENT
DTSTART;TZID=Pacific/Auckland:20220518T101500
DTEND;TZID=Pacific/Auckland:20220518T120000
DTSTAMP:20260421T231645
CREATED:20220506T053900Z
LAST-MODIFIED:20220517T001446Z
UID:23585-1652868900-1652875200@prinz.org.nz
SUMMARY:Waikato Internal Communications Clinic
DESCRIPTION:Wednesday 3rd June @ 3:00pm						\n					\n				\n				\n			\n			\n		\n				\n				\n					\n		\n					\n		\n				\n				\n							OverviewAll current members are invited to attend the 2026 PRINZ Annual General Meeting.  In a year where there has been much change and uncertainty in our industry\, join us to see how your industry body fared during these challenging times. This meeting will be conducted online with links sent to registered members the day prior. Election of new board members to replace those completing their current tenure will be included in the agenda. Register below!
URL:https://prinz.org.nz/event/waikato-internal-communications-clinic-2/
ATTACH;FMTTYPE=image/jpeg:https://prinz.org.nz/wp-content/uploads/2022/05/Untitled-design.jpg
END:VEVENT
BEGIN:VEVENT
DTSTART;TZID=Pacific/Auckland:20220519T183000
DTEND;TZID=Pacific/Auckland:20220519T213000
DTSTAMP:20260421T231645
CREATED:20220426T023012Z
LAST-MODIFIED:20220610T002002Z
UID:23206-1652985000-1652995800@prinz.org.nz
SUMMARY:Fellows and Life Members Dinner
DESCRIPTION:Wednesday 3rd June @ 3:00pm						\n					\n				\n				\n			\n			\n		\n				\n				\n					\n		\n					\n		\n				\n				\n							OverviewAll current members are invited to attend the 2026 PRINZ Annual General Meeting.  In a year where there has been much change and uncertainty in our industry\, join us to see how your industry body fared during these challenging times. This meeting will be conducted online with links sent to registered members the day prior. Election of new board members to replace those completing their current tenure will be included in the agenda. Register below!
URL:https://prinz.org.nz/event/fellows-and-life-members-dinner/
ATTACH;FMTTYPE=image/jpeg:https://prinz.org.nz/wp-content/uploads/2022/04/Non-solo-pizza.jpg
END:VEVENT
BEGIN:VEVENT
DTSTART;TZID=Pacific/Auckland:20220520T183000
DTEND;TZID=Pacific/Auckland:20220520T230000
DTSTAMP:20260421T231645
CREATED:20220406T221718Z
LAST-MODIFIED:20220610T002716Z
UID:22712-1653071400-1653087600@prinz.org.nz
SUMMARY:2022 PRINZ Awards Gala Dinner
DESCRIPTION:Wednesday 3rd June @ 3:00pm						\n					\n				\n				\n			\n			\n		\n				\n				\n					\n		\n					\n		\n				\n				\n							OverviewAll current members are invited to attend the 2026 PRINZ Annual General Meeting.  In a year where there has been much change and uncertainty in our industry\, join us to see how your industry body fared during these challenging times. This meeting will be conducted online with links sent to registered members the day prior. Election of new board members to replace those completing their current tenure will be included in the agenda. Register below!
URL:https://prinz.org.nz/event/2022-prinz-awards-gala-dinner-save-the-date/
ATTACH;FMTTYPE=image/jpeg:https://prinz.org.nz/wp-content/uploads/2020/12/A93Q0202_2019072560823539_20190725105107-scaled.jpg
END:VEVENT
BEGIN:VEVENT
DTSTART;TZID=Pacific/Auckland:20220526T093000
DTEND;TZID=Pacific/Auckland:20220526T120000
DTSTAMP:20260421T231645
CREATED:20220316T030439Z
LAST-MODIFIED:20220525T004153Z
UID:21887-1653557400-1653566400@prinz.org.nz
SUMMARY:Integrated Marketing Communications Masterclass - Online Via Zoom
DESCRIPTION:Wednesday 3rd June @ 3:00pm						\n					\n				\n				\n			\n			\n		\n				\n				\n					\n		\n					\n		\n				\n				\n							OverviewAll current members are invited to attend the 2026 PRINZ Annual General Meeting.  In a year where there has been much change and uncertainty in our industry\, join us to see how your industry body fared during these challenging times. This meeting will be conducted online with links sent to registered members the day prior. Election of new board members to replace those completing their current tenure will be included in the agenda. Register below!
URL:https://prinz.org.nz/event/integrated-marketing-communications-masterclass-online-via-zoom/
ATTACH;FMTTYPE=image/jpeg:https://prinz.org.nz/wp-content/uploads/2022/03/iStock-1284787995.jpg
END:VEVENT
BEGIN:VEVENT
DTSTART;TZID=Pacific/Auckland:20220530T093000
DTEND;TZID=Pacific/Auckland:20220602T120000
DTSTAMP:20260421T231645
CREATED:20220509T060708Z
LAST-MODIFIED:20220610T013743Z
UID:23645-1653903000-1654171200@prinz.org.nz
SUMMARY:Public Relations Strategy and Evaluation
DESCRIPTION:Wednesday 3rd June @ 3:00pm						\n					\n				\n				\n			\n			\n		\n				\n				\n					\n		\n					\n		\n				\n				\n							OverviewAll current members are invited to attend the 2026 PRINZ Annual General Meeting.  In a year where there has been much change and uncertainty in our industry\, join us to see how your industry body fared during these challenging times. This meeting will be conducted online with links sent to registered members the day prior. Election of new board members to replace those completing their current tenure will be included in the agenda. Register below!
URL:https://prinz.org.nz/event/public-relations-strategy-and-evaluation-2/
ATTACH;FMTTYPE=image/jpeg:https://prinz.org.nz/wp-content/uploads/2022/04/20200904-Blog-Hero-Product-Strategy.jpg
END:VEVENT
BEGIN:VEVENT
DTSTART;TZID=Pacific/Auckland:20220531T130000
DTEND;TZID=Pacific/Auckland:20220531T140000
DTSTAMP:20260421T231645
CREATED:20220516T044335Z
LAST-MODIFIED:20220602T041525Z
UID:23850-1654002000-1654005600@prinz.org.nz
SUMMARY:Public Relations Institute of New Zealand National AGM 2022
DESCRIPTION:Wednesday 3rd June @ 3:00pm						\n					\n				\n				\n			\n			\n		\n				\n				\n					\n		\n					\n		\n				\n				\n							OverviewAll current members are invited to attend the 2026 PRINZ Annual General Meeting.  In a year where there has been much change and uncertainty in our industry\, join us to see how your industry body fared during these challenging times. This meeting will be conducted online with links sent to registered members the day prior. Election of new board members to replace those completing their current tenure will be included in the agenda. Register below!
URL:https://prinz.org.nz/event/public-relations-institute-of-new-zealand-agm/
ATTACH;FMTTYPE=image/jpeg:https://prinz.org.nz/wp-content/uploads/2021/05/iStock-1250341206.jpg
END:VEVENT
END:VCALENDAR