BEGIN:VCALENDAR
VERSION:2.0
PRODID:-//PRINZ - Public Relations Institute of New Zealand - ECPv6.3.4//NONSGML v1.0//EN
CALSCALE:GREGORIAN
METHOD:PUBLISH
X-WR-CALNAME:PRINZ - Public Relations Institute of New Zealand
X-ORIGINAL-URL:https://prinz.org.nz
X-WR-CALDESC:Events for PRINZ - Public Relations Institute of New Zealand
REFRESH-INTERVAL;VALUE=DURATION:PT1H
X-Robots-Tag:noindex
X-PUBLISHED-TTL:PT1H
BEGIN:VTIMEZONE
TZID:Pacific/Auckland
BEGIN:STANDARD
TZOFFSETFROM:+1300
TZOFFSETTO:+1200
TZNAME:NZST
DTSTART:20220402T140000
END:STANDARD
BEGIN:DAYLIGHT
TZOFFSETFROM:+1200
TZOFFSETTO:+1300
TZNAME:NZDT
DTSTART:20220924T140000
END:DAYLIGHT
END:VTIMEZONE
BEGIN:VEVENT
DTSTART;TZID=Pacific/Auckland:20220201T210000
DTEND;TZID=Pacific/Auckland:20220201T220000
DTSTAMP:20260422T043851
CREATED:20220119T212057Z
LAST-MODIFIED:20220120T221012Z
UID:20751-1643749200-1643752800@prinz.org.nz
SUMMARY:Global Alliance Webinar - Trust in media during the Covid-19 pandemic: Implications for communication professionals
DESCRIPTION:Wednesday 3rd June @ 3:00pm						\n					\n				\n				\n			\n			\n		\n				\n				\n					\n		\n					\n		\n				\n				\n							OverviewAll current members are invited to attend the 2026 PRINZ Annual General Meeting.  In a year where there has been much change and uncertainty in our industry\, join us to see how your industry body fared during these challenging times. This meeting will be conducted online with links sent to registered members the day prior. Election of new board members to replace those completing their current tenure will be included in the agenda. Register below!
URL:https://prinz.org.nz/event/global-alliance-webinar-trust-in-media-during-the-covid-19-pandemic-implications-for-communication-professionals/
ATTACH;FMTTYPE=image/jpeg:https://prinz.org.nz/wp-content/uploads/2022/01/iStock-1319457368.jpg
END:VEVENT
BEGIN:VEVENT
DTSTART;TZID=Pacific/Auckland:20220209T120000
DTEND;TZID=Pacific/Auckland:20220209T130000
DTSTAMP:20260422T043851
CREATED:20220125T024828Z
LAST-MODIFIED:20220203T031300Z
UID:20806-1644408000-1644411600@prinz.org.nz
SUMMARY:PRINZ Awards - writing a winning entry
DESCRIPTION:Wednesday 3rd June @ 3:00pm						\n					\n				\n				\n			\n			\n		\n				\n				\n					\n		\n					\n		\n				\n				\n							OverviewAll current members are invited to attend the 2026 PRINZ Annual General Meeting.  In a year where there has been much change and uncertainty in our industry\, join us to see how your industry body fared during these challenging times. This meeting will be conducted online with links sent to registered members the day prior. Election of new board members to replace those completing their current tenure will be included in the agenda. Register below!
URL:https://prinz.org.nz/event/prinz-awards-writing-a-winning-entry/
ATTACH;FMTTYPE=image/jpeg:https://prinz.org.nz/wp-content/uploads/2022/01/149_PRINZ_2021_3600px-scaled.jpg
END:VEVENT
BEGIN:VEVENT
DTSTART;TZID=Pacific/Auckland:20220210T053000
DTEND;TZID=Pacific/Auckland:20220210T070000
DTSTAMP:20260422T043851
CREATED:20220120T215847Z
LAST-MODIFIED:20220120T220904Z
UID:20778-1644471000-1644476400@prinz.org.nz
SUMMARY:Global Alliance Webinar - AI\, communication and ethics: challenges and opportunities
DESCRIPTION:Wednesday 3rd June @ 3:00pm						\n					\n				\n				\n			\n			\n		\n				\n				\n					\n		\n					\n		\n				\n				\n							OverviewAll current members are invited to attend the 2026 PRINZ Annual General Meeting.  In a year where there has been much change and uncertainty in our industry\, join us to see how your industry body fared during these challenging times. This meeting will be conducted online with links sent to registered members the day prior. Election of new board members to replace those completing their current tenure will be included in the agenda. Register below!
URL:https://prinz.org.nz/event/global-alliance-webinar-ai-communication-and-ethics-challenges-and-opportunities/
ATTACH;FMTTYPE=image/jpeg:https://prinz.org.nz/wp-content/uploads/2022/01/iStock-1279103299.jpg
END:VEVENT
BEGIN:VEVENT
DTSTART;TZID=Pacific/Auckland:20220215T093000
DTEND;TZID=Pacific/Auckland:20220215T120000
DTSTAMP:20260422T043851
CREATED:20211124T012838Z
LAST-MODIFIED:20220210T031449Z
UID:19984-1644917400-1644926400@prinz.org.nz
SUMMARY:IC Futures – Inside Internal Communication
DESCRIPTION:Wednesday 3rd June @ 3:00pm						\n					\n				\n				\n			\n			\n		\n				\n				\n					\n		\n					\n		\n				\n				\n							OverviewAll current members are invited to attend the 2026 PRINZ Annual General Meeting.  In a year where there has been much change and uncertainty in our industry\, join us to see how your industry body fared during these challenging times. This meeting will be conducted online with links sent to registered members the day prior. Election of new board members to replace those completing their current tenure will be included in the agenda. Register below!
URL:https://prinz.org.nz/event/ic-futures-inside-internal-communication-3/
ATTACH;FMTTYPE=image/jpeg:https://prinz.org.nz/wp-content/uploads/2021/11/video-conference-vector-id1281074138-1.jpg
END:VEVENT
BEGIN:VEVENT
DTSTART;TZID=Pacific/Auckland:20220217T120000
DTEND;TZID=Pacific/Auckland:20220217T130000
DTSTAMP:20260422T043851
CREATED:20220126T035756Z
LAST-MODIFIED:20220204T042737Z
UID:20864-1645099200-1645102800@prinz.org.nz
SUMMARY:Events in the time of COVID-19
DESCRIPTION:Wednesday 3rd June @ 3:00pm						\n					\n				\n				\n			\n			\n		\n				\n				\n					\n		\n					\n		\n				\n				\n							OverviewAll current members are invited to attend the 2026 PRINZ Annual General Meeting.  In a year where there has been much change and uncertainty in our industry\, join us to see how your industry body fared during these challenging times. This meeting will be conducted online with links sent to registered members the day prior. Election of new board members to replace those completing their current tenure will be included in the agenda. Register below!
URL:https://prinz.org.nz/event/events-in-the-time-of-covid-19/
ATTACH;FMTTYPE=image/jpeg:https://prinz.org.nz/wp-content/uploads/2022/01/iStock-1160700188.jpg
END:VEVENT
BEGIN:VEVENT
DTSTART;TZID=Pacific/Auckland:20220217T123000
DTEND;TZID=Pacific/Auckland:20220217T133000
DTSTAMP:20260422T043851
CREATED:20220126T044008Z
LAST-MODIFIED:20220127T032249Z
UID:20908-1645101000-1645104600@prinz.org.nz
SUMMARY:Accreditation in PR – What is it and am I ready?
DESCRIPTION:Wednesday 3rd June @ 3:00pm						\n					\n				\n				\n			\n			\n		\n				\n				\n					\n		\n					\n		\n				\n				\n							OverviewAll current members are invited to attend the 2026 PRINZ Annual General Meeting.  In a year where there has been much change and uncertainty in our industry\, join us to see how your industry body fared during these challenging times. This meeting will be conducted online with links sent to registered members the day prior. Election of new board members to replace those completing their current tenure will be included in the agenda. Register below!
URL:https://prinz.org.nz/event/accreditation-in-pr-what-is-it-and-am-i-ready-2/
ATTACH;FMTTYPE=image/jpeg:https://prinz.org.nz/wp-content/uploads/2021/05/103_PRINZ_2021_3600px-1-scaled.jpg
END:VEVENT
BEGIN:VEVENT
DTSTART;TZID=Pacific/Auckland:20220224T093000
DTEND;TZID=Pacific/Auckland:20220224T120000
DTSTAMP:20260422T043851
CREATED:20211124T014405Z
LAST-MODIFIED:20220928T213104Z
UID:20010-1645695000-1645704000@prinz.org.nz
SUMMARY:IC Futures – Inside Internal Communication
DESCRIPTION:Wednesday 3rd June @ 3:00pm						\n					\n				\n				\n			\n			\n		\n				\n				\n					\n		\n					\n		\n				\n				\n							OverviewAll current members are invited to attend the 2026 PRINZ Annual General Meeting.  In a year where there has been much change and uncertainty in our industry\, join us to see how your industry body fared during these challenging times. This meeting will be conducted online with links sent to registered members the day prior. Election of new board members to replace those completing their current tenure will be included in the agenda. Register below!
URL:https://prinz.org.nz/event/ic-futures-inside-internal-communication-4/
ATTACH;FMTTYPE=image/jpeg:https://prinz.org.nz/wp-content/uploads/2021/11/well-ensure-your-query-gets-answered-picture-id1059088660.jpg
END:VEVENT
BEGIN:VEVENT
DTSTART;TZID=Pacific/Auckland:20220228T093000
DTEND;TZID=Pacific/Auckland:20220303T120000
DTSTAMP:20260422T043851
CREATED:20220204T002953Z
LAST-MODIFIED:20220407T061550Z
UID:21076-1646040600-1646308800@prinz.org.nz
SUMMARY:Introduction to Public Relations
DESCRIPTION:Wednesday 3rd June @ 3:00pm						\n					\n				\n				\n			\n			\n		\n				\n				\n					\n		\n					\n		\n				\n				\n							OverviewAll current members are invited to attend the 2026 PRINZ Annual General Meeting.  In a year where there has been much change and uncertainty in our industry\, join us to see how your industry body fared during these challenging times. This meeting will be conducted online with links sent to registered members the day prior. Election of new board members to replace those completing their current tenure will be included in the agenda. Register below!
URL:https://prinz.org.nz/event/introduction-to-public-relations/
ATTACH;FMTTYPE=image/jpeg:https://prinz.org.nz/wp-content/uploads/2022/02/confident-business-woman-at-the-office-with-arms-crossed-picture-id1324384387-e1643934653123.jpg
END:VEVENT
END:VCALENDAR