BEGIN:VCALENDAR
VERSION:2.0
PRODID:-//PRINZ - Public Relations Institute of New Zealand - ECPv6.3.4//NONSGML v1.0//EN
CALSCALE:GREGORIAN
METHOD:PUBLISH
X-WR-CALNAME:PRINZ - Public Relations Institute of New Zealand
X-ORIGINAL-URL:https://prinz.org.nz
X-WR-CALDESC:Events for PRINZ - Public Relations Institute of New Zealand
REFRESH-INTERVAL;VALUE=DURATION:PT1H
X-Robots-Tag:noindex
X-PUBLISHED-TTL:PT1H
BEGIN:VTIMEZONE
TZID:Pacific/Auckland
BEGIN:STANDARD
TZOFFSETFROM:+1300
TZOFFSETTO:+1200
TZNAME:NZST
DTSTART:20260404T140000
END:STANDARD
BEGIN:DAYLIGHT
TZOFFSETFROM:+1200
TZOFFSETTO:+1300
TZNAME:NZDT
DTSTART:20260926T140000
END:DAYLIGHT
END:VTIMEZONE
BEGIN:VEVENT
DTSTART;TZID=Pacific/Auckland:20260430T073000
DTEND;TZID=Pacific/Auckland:20260430T090000
DTSTAMP:20260424T052739
CREATED:20260330T040931Z
LAST-MODIFIED:20260330T040931Z
UID:55472-1777534200-1777539600@prinz.org.nz
SUMMARY:Breakfast for the brain: Critical thinking
DESCRIPTION:30 March @ 5:00pm - 7:30pm						\n					\n				\n				\n			\n			\n		\n				\n				\n					\n		\n					\n		\n				\n				\n							OverviewLooking for a chance to relax and catch up with some local Wellington PR and comms colleagues? Come and enjoy an after-work drink with us at the beautiful Avida bar on Featherston Street. Everyone is welcome at our PRINZ Central Division Comms Catch-ups\, and you don’t need to be a member to attend. Take the opportunity to attend this casual\, drop-in event which is all about swapping stories\, building a community of practice\, and connecting with friends – old and new.  There’ll be a cash bar and plenty of good chat to go around\, so register now to book a seat at the table! 
URL:https://prinz.org.nz/event/breakfast-for-the-brain-critical-thinking/
LOCATION:Environment Canterbury\, 200 Tuam Street\, Christchurch\, 8011
ATTACH;FMTTYPE=image/jpeg:https://prinz.org.nz/wp-content/uploads/2026/03/2025-banners-1.jpg
END:VEVENT
BEGIN:VEVENT
DTSTART;TZID=Pacific/Auckland:20260430T173000
DTEND;TZID=Pacific/Auckland:20260430T193000
DTSTAMP:20260424T052739
CREATED:20260417T050535Z
LAST-MODIFIED:20260420T044057Z
UID:55952-1777570200-1777577400@prinz.org.nz
SUMMARY:UC Student Networking Event: The Inside Track
DESCRIPTION:30 March @ 5:00pm - 7:30pm						\n					\n				\n				\n			\n			\n		\n				\n				\n					\n		\n					\n		\n				\n				\n							OverviewLooking for a chance to relax and catch up with some local Wellington PR and comms colleagues? Come and enjoy an after-work drink with us at the beautiful Avida bar on Featherston Street. Everyone is welcome at our PRINZ Central Division Comms Catch-ups\, and you don’t need to be a member to attend. Take the opportunity to attend this casual\, drop-in event which is all about swapping stories\, building a community of practice\, and connecting with friends – old and new.  There’ll be a cash bar and plenty of good chat to go around\, so register now to book a seat at the table! 
URL:https://prinz.org.nz/event/uc-student-networking-event-the-inside-track/
LOCATION:James Logie Room 613\, 20 Kirkwood Avenue\, Upper Riccarton\, Christchurch\, 8041\, New Zealand
ATTACH;FMTTYPE=image/png:https://prinz.org.nz/wp-content/uploads/2026/04/2025-banners-63.png
END:VEVENT
BEGIN:VEVENT
DTSTART;TZID=Pacific/Auckland:20260505T093000
DTEND;TZID=Pacific/Auckland:20260505T124500
DTSTAMP:20260424T052739
CREATED:20260114T215535Z
LAST-MODIFIED:20260114T215535Z
UID:53843-1777973400-1777985100@prinz.org.nz
SUMMARY:Press Release Writing and Media Pitching: Tips from a former newspaper editor on getting your story into the media
DESCRIPTION:30 March @ 5:00pm - 7:30pm						\n					\n				\n				\n			\n			\n		\n				\n				\n					\n		\n					\n		\n				\n				\n							OverviewLooking for a chance to relax and catch up with some local Wellington PR and comms colleagues? Come and enjoy an after-work drink with us at the beautiful Avida bar on Featherston Street. Everyone is welcome at our PRINZ Central Division Comms Catch-ups\, and you don’t need to be a member to attend. Take the opportunity to attend this casual\, drop-in event which is all about swapping stories\, building a community of practice\, and connecting with friends – old and new.  There’ll be a cash bar and plenty of good chat to go around\, so register now to book a seat at the table! 
URL:https://prinz.org.nz/event/press-release-writing-and-media-pitching-tips-from-a-former-newspaper-editor-on-getting-your-story-into-the-media-3/
LOCATION:Online
ATTACH;FMTTYPE=image/png:https://prinz.org.nz/wp-content/uploads/2024/12/megaphone.png
END:VEVENT
BEGIN:VEVENT
DTSTART;TZID=Pacific/Auckland:20260513T090000
DTEND;TZID=Pacific/Auckland:20260520T120000
DTSTAMP:20260424T052739
CREATED:20260203T000920Z
LAST-MODIFIED:20260324T000923Z
UID:53825-1778662800-1779278400@prinz.org.nz
SUMMARY:The Inside Scoop: Strategic Internal Comms for Your Organisation
DESCRIPTION:30 March @ 5:00pm - 7:30pm						\n					\n				\n				\n			\n			\n		\n				\n				\n					\n		\n					\n		\n				\n				\n							OverviewLooking for a chance to relax and catch up with some local Wellington PR and comms colleagues? Come and enjoy an after-work drink with us at the beautiful Avida bar on Featherston Street. Everyone is welcome at our PRINZ Central Division Comms Catch-ups\, and you don’t need to be a member to attend. Take the opportunity to attend this casual\, drop-in event which is all about swapping stories\, building a community of practice\, and connecting with friends – old and new.  There’ll be a cash bar and plenty of good chat to go around\, so register now to book a seat at the table! 
URL:https://prinz.org.nz/event/the-inside-scoop-strategic-internal-comms-for-your-organisation/
LOCATION:Online
ATTACH;FMTTYPE=image/png:https://prinz.org.nz/wp-content/uploads/2025/12/2025-banners-47.png
END:VEVENT
BEGIN:VEVENT
DTSTART;TZID=Pacific/Auckland:20260514T073000
DTEND;TZID=Pacific/Auckland:20260514T083000
DTSTAMP:20260424T052739
CREATED:20260401T224337Z
LAST-MODIFIED:20260401T224337Z
UID:55543-1778743800-1778747400@prinz.org.nz
SUMMARY:From Overwhelm to Clarity: Navigating High-Pressure Environments
DESCRIPTION:30 March @ 5:00pm - 7:30pm						\n					\n				\n				\n			\n			\n		\n				\n				\n					\n		\n					\n		\n				\n				\n							OverviewLooking for a chance to relax and catch up with some local Wellington PR and comms colleagues? Come and enjoy an after-work drink with us at the beautiful Avida bar on Featherston Street. Everyone is welcome at our PRINZ Central Division Comms Catch-ups\, and you don’t need to be a member to attend. Take the opportunity to attend this casual\, drop-in event which is all about swapping stories\, building a community of practice\, and connecting with friends – old and new.  There’ll be a cash bar and plenty of good chat to go around\, so register now to book a seat at the table! 
URL:https://prinz.org.nz/event/from-overwhelm-to-clarity-navigating-high-pressure-environments/
LOCATION:Auckland Council\, Auckland House\, 135 Albert Street\, Auckland\, New Zealand
ATTACH;FMTTYPE=image/jpeg:https://prinz.org.nz/wp-content/uploads/2026/04/2025-banners-3.jpg
END:VEVENT
BEGIN:VEVENT
DTSTART;TZID=Pacific/Auckland:20260519T093000
DTEND;TZID=Pacific/Auckland:20260521T120000
DTSTAMP:20260424T052739
CREATED:20260302T002530Z
LAST-MODIFIED:20260302T002530Z
UID:54974-1779183000-1779364800@prinz.org.nz
SUMMARY:Introduction to Public Relations
DESCRIPTION:30 March @ 5:00pm - 7:30pm						\n					\n				\n				\n			\n			\n		\n				\n				\n					\n		\n					\n		\n				\n				\n							OverviewLooking for a chance to relax and catch up with some local Wellington PR and comms colleagues? Come and enjoy an after-work drink with us at the beautiful Avida bar on Featherston Street. Everyone is welcome at our PRINZ Central Division Comms Catch-ups\, and you don’t need to be a member to attend. Take the opportunity to attend this casual\, drop-in event which is all about swapping stories\, building a community of practice\, and connecting with friends – old and new.  There’ll be a cash bar and plenty of good chat to go around\, so register now to book a seat at the table! 
URL:https://prinz.org.nz/event/introduction-to-public-relations-8/
LOCATION:Online
ATTACH;FMTTYPE=image/png:https://prinz.org.nz/wp-content/uploads/2024/11/Intro-to-PR-Cover-People-Catherine-Arrow-e1772399595717.png
END:VEVENT
BEGIN:VEVENT
DTSTART;TZID=Pacific/Auckland:20260603T150000
DTEND;TZID=Pacific/Auckland:20260603T170000
DTSTAMP:20260424T052739
CREATED:20260420T040810Z
LAST-MODIFIED:20260420T040810Z
UID:55994-1780498800-1780506000@prinz.org.nz
SUMMARY:PRINZ Annual General Meeting 2026
DESCRIPTION:30 March @ 5:00pm - 7:30pm						\n					\n				\n				\n			\n			\n		\n				\n				\n					\n		\n					\n		\n				\n				\n							OverviewLooking for a chance to relax and catch up with some local Wellington PR and comms colleagues? Come and enjoy an after-work drink with us at the beautiful Avida bar on Featherston Street. Everyone is welcome at our PRINZ Central Division Comms Catch-ups\, and you don’t need to be a member to attend. Take the opportunity to attend this casual\, drop-in event which is all about swapping stories\, building a community of practice\, and connecting with friends – old and new.  There’ll be a cash bar and plenty of good chat to go around\, so register now to book a seat at the table! 
URL:https://prinz.org.nz/event/prinz-annual-general-meeting-2026/
LOCATION:Online
ATTACH;FMTTYPE=image/png:https://prinz.org.nz/wp-content/uploads/2026/04/2025-banners-Presentation-4-e1776657428584.png
END:VEVENT
BEGIN:VEVENT
DTSTART;TZID=Pacific/Auckland:20260604T080000
DTEND;TZID=Pacific/Auckland:20260604T170000
DTSTAMP:20260424T052739
CREATED:20260412T220914Z
LAST-MODIFIED:20260415T002634Z
UID:55703-1780560000-1780592400@prinz.org.nz
SUMMARY:PRINZ Conference 2026: Meet the Future
DESCRIPTION:30 March @ 5:00pm - 7:30pm						\n					\n				\n				\n			\n			\n		\n				\n				\n					\n		\n					\n		\n				\n				\n							OverviewLooking for a chance to relax and catch up with some local Wellington PR and comms colleagues? Come and enjoy an after-work drink with us at the beautiful Avida bar on Featherston Street. Everyone is welcome at our PRINZ Central Division Comms Catch-ups\, and you don’t need to be a member to attend. Take the opportunity to attend this casual\, drop-in event which is all about swapping stories\, building a community of practice\, and connecting with friends – old and new.  There’ll be a cash bar and plenty of good chat to go around\, so register now to book a seat at the table! 
URL:https://prinz.org.nz/event/prinz-conference-2026-meet-the-future/
LOCATION:Hilton Auckland\, 147 Quay Street\, Auckland\, 1010\, New Zealand
ATTACH;FMTTYPE=image/png:https://prinz.org.nz/wp-content/uploads/2026/04/2025-banners-60-e1776200241779.png
END:VEVENT
BEGIN:VEVENT
DTSTART;TZID=Pacific/Auckland:20260604T183000
DTEND;TZID=Pacific/Auckland:20260604T233000
DTSTAMP:20260424T052739
CREATED:20260414T210700Z
LAST-MODIFIED:20260415T002341Z
UID:55782-1780597800-1780615800@prinz.org.nz
SUMMARY:2026 PRINZ Awards Gala Dinner
DESCRIPTION:30 March @ 5:00pm - 7:30pm						\n					\n				\n				\n			\n			\n		\n				\n				\n					\n		\n					\n		\n				\n				\n							OverviewLooking for a chance to relax and catch up with some local Wellington PR and comms colleagues? Come and enjoy an after-work drink with us at the beautiful Avida bar on Featherston Street. Everyone is welcome at our PRINZ Central Division Comms Catch-ups\, and you don’t need to be a member to attend. Take the opportunity to attend this casual\, drop-in event which is all about swapping stories\, building a community of practice\, and connecting with friends – old and new.  There’ll be a cash bar and plenty of good chat to go around\, so register now to book a seat at the table! 
URL:https://prinz.org.nz/event/2026-prinz-awards-gala-dinner/
LOCATION:Hilton Auckland\, 147 Quay Street\, Auckland\, 1010\, New Zealand
ATTACH;FMTTYPE=image/png:https://prinz.org.nz/wp-content/uploads/2026/04/2025-banners-61.png
END:VEVENT
BEGIN:VEVENT
DTSTART;TZID=Pacific/Auckland:20260609T100000
DTEND;TZID=Pacific/Auckland:20260616T120000
DTSTAMP:20260424T052739
CREATED:20260302T033739Z
LAST-MODIFIED:20260302T033818Z
UID:54988-1780999200-1781611200@prinz.org.nz
SUMMARY:Incorporating Tiriti-based Principles into Public Relations Practice
DESCRIPTION:30 March @ 5:00pm - 7:30pm						\n					\n				\n				\n			\n			\n		\n				\n				\n					\n		\n					\n		\n				\n				\n							OverviewLooking for a chance to relax and catch up with some local Wellington PR and comms colleagues? Come and enjoy an after-work drink with us at the beautiful Avida bar on Featherston Street. Everyone is welcome at our PRINZ Central Division Comms Catch-ups\, and you don’t need to be a member to attend. Take the opportunity to attend this casual\, drop-in event which is all about swapping stories\, building a community of practice\, and connecting with friends – old and new.  There’ll be a cash bar and plenty of good chat to go around\, so register now to book a seat at the table! 
URL:https://prinz.org.nz/event/incorporating-tiriti-based-principles-into-public-relations-practice/
LOCATION:Online
ATTACH;FMTTYPE=image/png:https://prinz.org.nz/wp-content/uploads/2026/03/2025-banners-58.png
END:VEVENT
BEGIN:VEVENT
DTSTART;TZID=Pacific/Auckland:20260623T093000
DTEND;TZID=Pacific/Auckland:20260624T123000
DTSTAMP:20260424T052739
CREATED:20260309T012034Z
LAST-MODIFIED:20260409T000220Z
UID:55082-1782207000-1782304200@prinz.org.nz
SUMMARY:Critical Thinking in the Age of AI
DESCRIPTION:30 March @ 5:00pm - 7:30pm						\n					\n				\n				\n			\n			\n		\n				\n				\n					\n		\n					\n		\n				\n				\n							OverviewLooking for a chance to relax and catch up with some local Wellington PR and comms colleagues? Come and enjoy an after-work drink with us at the beautiful Avida bar on Featherston Street. Everyone is welcome at our PRINZ Central Division Comms Catch-ups\, and you don’t need to be a member to attend. Take the opportunity to attend this casual\, drop-in event which is all about swapping stories\, building a community of practice\, and connecting with friends – old and new.  There’ll be a cash bar and plenty of good chat to go around\, so register now to book a seat at the table! 
URL:https://prinz.org.nz/event/critical-thinking-in-the-age-of-ai/
LOCATION:Online
ATTACH;FMTTYPE=image/png:https://prinz.org.nz/wp-content/uploads/2026/03/critical-thinking-age-of-ai.png
END:VEVENT
BEGIN:VEVENT
DTSTART;TZID=Pacific/Auckland:20260625T093000
DTEND;TZID=Pacific/Auckland:20260625T120000
DTSTAMP:20260424T052739
CREATED:20251212T033817Z
LAST-MODIFIED:20260323T234105Z
UID:53684-1782379800-1782388800@prinz.org.nz
SUMMARY:Hands On with AI
DESCRIPTION:30 March @ 5:00pm - 7:30pm						\n					\n				\n				\n			\n			\n		\n				\n				\n					\n		\n					\n		\n				\n				\n							OverviewLooking for a chance to relax and catch up with some local Wellington PR and comms colleagues? Come and enjoy an after-work drink with us at the beautiful Avida bar on Featherston Street. Everyone is welcome at our PRINZ Central Division Comms Catch-ups\, and you don’t need to be a member to attend. Take the opportunity to attend this casual\, drop-in event which is all about swapping stories\, building a community of practice\, and connecting with friends – old and new.  There’ll be a cash bar and plenty of good chat to go around\, so register now to book a seat at the table! 
URL:https://prinz.org.nz/event/hands-on-with-ai-4/
LOCATION:Online
ATTACH;FMTTYPE=image/jpeg:https://prinz.org.nz/wp-content/uploads/2025/02/PRKH-Hands-on-White-Phone-e1742172373898.jpg
END:VEVENT
BEGIN:VEVENT
DTSTART;TZID=Pacific/Auckland:20260630T093000
DTEND;TZID=Pacific/Auckland:20260630T123000
DTSTAMP:20260424T052739
CREATED:20251217T042649Z
LAST-MODIFIED:20260407T230336Z
UID:53707-1782811800-1782822600@prinz.org.nz
SUMMARY:Down the Rabbit Hole: Understanding Government Relations
DESCRIPTION:30 March @ 5:00pm - 7:30pm						\n					\n				\n				\n			\n			\n		\n				\n				\n					\n		\n					\n		\n				\n				\n							OverviewLooking for a chance to relax and catch up with some local Wellington PR and comms colleagues? Come and enjoy an after-work drink with us at the beautiful Avida bar on Featherston Street. Everyone is welcome at our PRINZ Central Division Comms Catch-ups\, and you don’t need to be a member to attend. Take the opportunity to attend this casual\, drop-in event which is all about swapping stories\, building a community of practice\, and connecting with friends – old and new.  There’ll be a cash bar and plenty of good chat to go around\, so register now to book a seat at the table! 
URL:https://prinz.org.nz/event/down-the-rabbit-hole-understanding-government-relations-2/
LOCATION:Online
ATTACH;FMTTYPE=image/jpeg:https://prinz.org.nz/wp-content/uploads/2025/08/alice.jpg
END:VEVENT
END:VCALENDAR