BEGIN:VCALENDAR
VERSION:2.0
PRODID:-//PRINZ - Public Relations Institute of New Zealand - ECPv6.3.4//NONSGML v1.0//EN
CALSCALE:GREGORIAN
METHOD:PUBLISH
X-WR-CALNAME:PRINZ - Public Relations Institute of New Zealand
X-ORIGINAL-URL:https://prinz.org.nz
X-WR-CALDESC:Events for PRINZ - Public Relations Institute of New Zealand
REFRESH-INTERVAL;VALUE=DURATION:PT1H
X-Robots-Tag:noindex
X-PUBLISHED-TTL:PT1H
BEGIN:VTIMEZONE
TZID:Pacific/Auckland
BEGIN:STANDARD
TZOFFSETFROM:+1300
TZOFFSETTO:+1200
TZNAME:NZST
DTSTART:20200404T140000
END:STANDARD
BEGIN:DAYLIGHT
TZOFFSETFROM:+1200
TZOFFSETTO:+1300
TZNAME:NZDT
DTSTART:20200926T140000
END:DAYLIGHT
BEGIN:STANDARD
TZOFFSETFROM:+1300
TZOFFSETTO:+1200
TZNAME:NZST
DTSTART:20210403T140000
END:STANDARD
BEGIN:DAYLIGHT
TZOFFSETFROM:+1200
TZOFFSETTO:+1300
TZNAME:NZDT
DTSTART:20210925T140000
END:DAYLIGHT
END:VTIMEZONE
BEGIN:VEVENT
DTSTART;TZID=Pacific/Auckland:20210528T180000
DTEND;TZID=Pacific/Auckland:20210528T230000
DTSTAMP:20260422T012911
CREATED:20200101T023447Z
LAST-MODIFIED:20220407T000325Z
UID:8232-1622224800-1622242800@prinz.org.nz
SUMMARY:2021 PRINZ Awards Gala Dinner
DESCRIPTION:20th June @ 5:30pm - 7pm						\n					\n				\n				\n			\n			\n		\n				\n				\n					\n		\n					\n		\n				\n				\n							OverviewWe are fast approaching the middle of the year so it’s the perfect time to come and catch up with your local southern PRINZ colleagues. Mix and mingle with fellow practitioners\, including PRINZ CEO Susanne Martin. Talk about everything you have achieved so far this year\, brainstorm what you have coming up or just unwind. This event is free for PRINZ members\, but you will need to purchase your own drinks. We look forward to seeing you there!
URL:https://prinz.org.nz/event/2021-prinz-awards-gala-dinner/
ATTACH;FMTTYPE=image/jpeg:https://prinz.org.nz/wp-content/uploads/2020/12/A93Q0202_2019072560823539_20190725105107-scaled.jpg
END:VEVENT
BEGIN:VEVENT
DTSTART;TZID=Pacific/Auckland:20210316T160000
DTEND;TZID=Pacific/Auckland:20210316T170000
DTSTAMP:20260422T012911
CREATED:20180109T215044Z
LAST-MODIFIED:20210310T232302Z
UID:10839-1615910400-1615914000@prinz.org.nz
SUMMARY:Finance Disrupted: Apps\, Social Media And People Power
DESCRIPTION:20th June @ 5:30pm - 7pm						\n					\n				\n				\n			\n			\n		\n				\n				\n					\n		\n					\n		\n				\n				\n							OverviewWe are fast approaching the middle of the year so it’s the perfect time to come and catch up with your local southern PRINZ colleagues. Mix and mingle with fellow practitioners\, including PRINZ CEO Susanne Martin. Talk about everything you have achieved so far this year\, brainstorm what you have coming up or just unwind. This event is free for PRINZ members\, but you will need to purchase your own drinks. We look forward to seeing you there!
URL:https://prinz.org.nz/event/finance-disrupted-apps-social-media-and-people-power/
ATTACH;FMTTYPE=image/jpeg:https://prinz.org.nz/wp-content/uploads/2021/03/iStock-952510084.jpg
END:VEVENT
BEGIN:VEVENT
DTSTART;TZID=Pacific/Auckland:20201111T093000
DTEND;TZID=Pacific/Auckland:20201111T160000
DTSTAMP:20260422T012911
CREATED:20200111T033608Z
LAST-MODIFIED:20220830T224907Z
UID:2731-1605087000-1605110400@prinz.org.nz
SUMMARY:Social Media Strategy for PR and Communication
DESCRIPTION:20th June @ 5:30pm - 7pm						\n					\n				\n				\n			\n			\n		\n				\n				\n					\n		\n					\n		\n				\n				\n							OverviewWe are fast approaching the middle of the year so it’s the perfect time to come and catch up with your local southern PRINZ colleagues. Mix and mingle with fellow practitioners\, including PRINZ CEO Susanne Martin. Talk about everything you have achieved so far this year\, brainstorm what you have coming up or just unwind. This event is free for PRINZ members\, but you will need to purchase your own drinks. We look forward to seeing you there!
URL:https://prinz.org.nz/event/social-media-strategy-for-pr-and-communication/
ATTACH;FMTTYPE=image/jpeg:https://prinz.org.nz/wp-content/uploads/2020/06/Social-Media-Strategy.jpg
END:VEVENT
END:VCALENDAR