BEGIN:VCALENDAR
VERSION:2.0
PRODID:-//PRINZ - Public Relations Institute of New Zealand - ECPv6.3.4//NONSGML v1.0//EN
CALSCALE:GREGORIAN
METHOD:PUBLISH
X-ORIGINAL-URL:https://prinz.org.nz
X-WR-CALDESC:Events for PRINZ - Public Relations Institute of New Zealand
REFRESH-INTERVAL;VALUE=DURATION:PT1H
X-Robots-Tag:noindex
X-PUBLISHED-TTL:PT1H
BEGIN:VTIMEZONE
TZID:Pacific/Auckland
BEGIN:STANDARD
TZOFFSETFROM:+1300
TZOFFSETTO:+1200
TZNAME:NZST
DTSTART:20220402T140000
END:STANDARD
BEGIN:DAYLIGHT
TZOFFSETFROM:+1200
TZOFFSETTO:+1300
TZNAME:NZDT
DTSTART:20220924T140000
END:DAYLIGHT
END:VTIMEZONE
BEGIN:VEVENT
DTSTART;TZID=Pacific/Auckland:20220316T093000
DTEND;TZID=Pacific/Auckland:20220316T123000
DTSTAMP:20260422T043243
CREATED:20220204T004707Z
LAST-MODIFIED:20220204T005344Z
UID:21048-1647423000-1647433800@prinz.org.nz
SUMMARY:Developing a Digital PR content strategy. A Masterclass with Charlene White
DESCRIPTION:Wednesday 3rd June @ 3:00pm						\n					\n				\n				\n			\n			\n		\n				\n				\n					\n		\n					\n		\n				\n				\n							OverviewAll current members are invited to attend the 2026 PRINZ Annual General Meeting.  In a year where there has been much change and uncertainty in our industry\, join us to see how your industry body fared during these challenging times. This meeting will be conducted online with links sent to registered members the day prior. Election of new board members to replace those completing their current tenure will be included in the agenda. Register below!
URL:https://prinz.org.nz/event/developing-a-digital-pr-content-strategy/
ATTACH;FMTTYPE=image/jpeg:https://prinz.org.nz/wp-content/uploads/2022/02/content-marketing-content-data-blogging-media-publication-information-picture-id976370312.jpg
END:VEVENT
END:VCALENDAR